BEGIN:VCALENDAR
PRODID:-//eluceo/ical//2.0/EN
VERSION:2.0
CALSCALE:GREGORIAN
BEGIN:VEVENT
UID:6441cfbd8d292315aebcc2c0c6f9ebc3
DTSTAMP:20260425T183702Z
SUMMARY:Plauder Lunch
DESCRIPTION:Webbplats: http://www.frohsinn-arbon.ch
URL:https://rc-oberer-bodensee.ch/sv/agenda/show/164244
DTSTART;TZID=Europe/Zurich:20230929T120000
DTEND;TZID=Europe/Zurich:20230929T120000
LOCATION:Gasthof Brauerei Frohsinn\, Romanshornerstrasse 15\, 9320 Arbon
CATEGORIES:Rotary
END:VEVENT
BEGIN:VTIMEZONE
TZID:Europe/Zurich
BEGIN:DAYLIGHT
DTSTART:20230929T120000
TZNAME:CEST
TZOFFSETTO:+0200
TZOFFSETFROM:+0200
END:DAYLIGHT
END:VTIMEZONE
END:VCALENDAR
