BEGIN:VCALENDAR
PRODID:-//eluceo/ical//2.0/EN
VERSION:2.0
CALSCALE:GREGORIAN
BEGIN:VEVENT
UID:c973ea777d01a931bb5c2b6ee1a22b71
DTSTAMP:20260422T122449Z
SUMMARY:Partneranlass Festspiele Bregenz
DESCRIPTION:
URL:https://rc-oberer-bodensee.ch/sv/agenda/show/164235
DTSTART;TZID=Europe/Zurich:20230809T174500
DTEND;TZID=Europe/Zurich:20230809T174500
LOCATION:Bregenz
CATEGORIES:Rotary
END:VEVENT
BEGIN:VTIMEZONE
TZID:Europe/Zurich
BEGIN:DAYLIGHT
DTSTART:20230809T174500
TZNAME:CEST
TZOFFSETTO:+0200
TZOFFSETFROM:+0200
END:DAYLIGHT
END:VTIMEZONE
END:VCALENDAR
