BEGIN:VCALENDAR
PRODID:-//eluceo/ical//2.0/EN
VERSION:2.0
CALSCALE:GREGORIAN
BEGIN:VEVENT
UID:0e2cbd85345cb94abfd99e1e5fe3e93d
DTSTAMP:20260424T212959Z
SUMMARY:Marcel Walker - Mitgliederversammlung
DESCRIPTION:Webbplats: http://www.villa-am-see.ch
URL:https://rc-oberer-bodensee.ch/sv/agenda/show/151129
DTSTART;TZID=Europe/Zurich:20221216T120000
DTEND;TZID=Europe/Zurich:20221216T120000
LOCATION:Villa am See\, Seestrasse 64\, 9403 Goldach
CATEGORIES:Rotary
END:VEVENT
BEGIN:VTIMEZONE
TZID:Europe/Zurich
BEGIN:STANDARD
DTSTART:20221216T120000
TZNAME:CET
TZOFFSETTO:+0100
TZOFFSETFROM:+0100
END:STANDARD
END:VTIMEZONE
END:VCALENDAR
