BEGIN:VCALENDAR
PRODID:-//eluceo/ical//2.0/EN
VERSION:2.0
CALSCALE:GREGORIAN
BEGIN:VEVENT
UID:5b1490fcb0cb981c3cae6d3ce4bbdef4
DTSTAMP:20260422T100347Z
SUMMARY:Lebenslauf Simon Tribelhorn
DESCRIPTION:Website: http://www.frohsinn-arbon.ch
URL:https://rc-oberer-bodensee.ch/nl/agenda/show/196397
DTSTART;TZID=Europe/Zurich:20250613T120000
DTEND;TZID=Europe/Zurich:20250613T120000
LOCATION:Gasthof Brauerei Frohsinn\, Romanshornerstrasse 15\, 9320 Arbon
CATEGORIES:Rotary
END:VEVENT
BEGIN:VTIMEZONE
TZID:Europe/Zurich
BEGIN:DAYLIGHT
DTSTART:20250613T120000
TZNAME:CEST
TZOFFSETTO:+0200
TZOFFSETFROM:+0200
END:DAYLIGHT
END:VTIMEZONE
END:VCALENDAR
