BEGIN:VCALENDAR
PRODID:-//eluceo/ical//2.0/EN
VERSION:2.0
CALSCALE:GREGORIAN
BEGIN:VEVENT
UID:e0849c95dd3391098b830bc3c8a0009d
DTSTAMP:20260421T170349Z
SUMMARY:Präsenz-Apéro in der Faro Bar
DESCRIPTION:
URL:https://rc-oberer-bodensee.ch/it/agenda/show/165461
DTSTART;TZID=Europe/Zurich:20231205T180000
DTEND;TZID=Europe/Zurich:20231205T180000
LOCATION:Faro Bar\, Bad Horn
CATEGORIES:Rotary
END:VEVENT
BEGIN:VTIMEZONE
TZID:Europe/Zurich
BEGIN:STANDARD
DTSTART:20231205T180000
TZNAME:CET
TZOFFSETTO:+0100
TZOFFSETFROM:+0100
END:STANDARD
END:VTIMEZONE
END:VCALENDAR
