BEGIN:VCALENDAR
PRODID:-//eluceo/ical//2.0/EN
VERSION:2.0
CALSCALE:GREGORIAN
BEGIN:VEVENT
UID:bcd34a5297a91cb16d65a49d1c098c1e
DTSTAMP:20260422T230548Z
SUMMARY:Präsenz-Apéro in der Faro Bar
DESCRIPTION:
URL:https://rc-oberer-bodensee.ch/it/agenda/show/165453
DTSTART;TZID=Europe/Zurich:20231107T180000
DTEND;TZID=Europe/Zurich:20231107T180000
LOCATION:Faro Bar\, Bad Horn
CATEGORIES:Rotary
END:VEVENT
BEGIN:VTIMEZONE
TZID:Europe/Zurich
BEGIN:STANDARD
DTSTART:20231107T180000
TZNAME:CET
TZOFFSETTO:+0100
TZOFFSETFROM:+0100
END:STANDARD
END:VTIMEZONE
END:VCALENDAR
