BEGIN:VCALENDAR
PRODID:-//eluceo/ical//2.0/EN
VERSION:2.0
CALSCALE:GREGORIAN
BEGIN:VEVENT
UID:05f79d7302fde118b7f791f75b521b3e
DTSTAMP:20260423T005205Z
SUMMARY:Vortrag Naturschutzgebiet Arboner Bucht
DESCRIPTION:Sito web: http://www.frohsinn-arbon.ch
URL:https://rc-oberer-bodensee.ch/it/agenda/show/165450
DTSTART;TZID=Europe/Zurich:20231027T120000
DTEND;TZID=Europe/Zurich:20231027T120000
LOCATION:Gasthof Brauerei Frohsinn\, Romanshornerstrasse 15\, 9320 Arbon
CATEGORIES:Rotary
END:VEVENT
BEGIN:VTIMEZONE
TZID:Europe/Zurich
BEGIN:DAYLIGHT
DTSTART:20231027T120000
TZNAME:CEST
TZOFFSETTO:+0200
TZOFFSETFROM:+0200
END:DAYLIGHT
END:VTIMEZONE
END:VCALENDAR
