BEGIN:VCALENDAR
PRODID:-//eluceo/ical//2.0/EN
VERSION:2.0
CALSCALE:GREGORIAN
BEGIN:VEVENT
UID:2146663419337c61804cb8bc728f681f
DTSTAMP:20260423T004831Z
SUMMARY:Cook + Eat
DESCRIPTION:
URL:https://rc-oberer-bodensee.ch/it/agenda/show/164613
DTSTART;TZID=Europe/Zurich:20231020T190000
DTEND;TZID=Europe/Zurich:20231020T190000
LOCATION:Dinner@Home
CATEGORIES:Rotary
END:VEVENT
BEGIN:VTIMEZONE
TZID:Europe/Zurich
BEGIN:DAYLIGHT
DTSTART:20231020T190000
TZNAME:CEST
TZOFFSETTO:+0200
TZOFFSETFROM:+0200
END:DAYLIGHT
END:VTIMEZONE
END:VCALENDAR
