BEGIN:VCALENDAR
PRODID:-//eluceo/ical//2.0/EN
VERSION:2.0
CALSCALE:GREGORIAN
BEGIN:VEVENT
UID:df4fffe528ebee8555bc78873ec15c17
DTSTAMP:20260423T094749Z
SUMMARY:Jakob Gülünay - Blockchain und NFT
DESCRIPTION:Sito web: http://www.villa-am-see.ch
URL:https://rc-oberer-bodensee.ch/it/agenda/show/154482
DTSTART;TZID=Europe/Zurich:00230120T120000
DTEND;TZID=Europe/Zurich:00230120T120000
LOCATION:Villa am See\, Seestrasse 64\, 9403 Goldach
CATEGORIES:Rotary
END:VEVENT
BEGIN:VTIMEZONE
TZID:Europe/Zurich
BEGIN:STANDARD
DTSTART:00230120T120000
TZNAME:LMT
TZOFFSETTO:+0034
TZOFFSETFROM:+0034
END:STANDARD
END:VTIMEZONE
END:VCALENDAR
