BEGIN:VCALENDAR
PRODID:-//eluceo/ical//2.0/EN
VERSION:2.0
CALSCALE:GREGORIAN
BEGIN:VEVENT
UID:088fb4630d3150429c03a76fba8c4ea6
DTSTAMP:20260424T090440Z
SUMMARY:Betriebsführung durch die Firma mit anschliessendem Sparlunch
DESCRIPTION:
URL:https://rc-oberer-bodensee.ch/fr/agenda/show/21231
DTSTART;TZID=Europe/Zurich:20120125T000000
DTEND;TZID=Europe/Zurich:20120125T000000
LOCATION:Villa am See
CATEGORIES:Rotary
END:VEVENT
BEGIN:VTIMEZONE
TZID:Europe/Zurich
BEGIN:STANDARD
DTSTART:20120125T000000
TZNAME:CET
TZOFFSETTO:+0100
TZOFFSETFROM:+0100
END:STANDARD
END:VTIMEZONE
END:VCALENDAR
