BEGIN:VCALENDAR
PRODID:-//eluceo/ical//2.0/EN
VERSION:2.0
CALSCALE:GREGORIAN
BEGIN:VEVENT
UID:b3ce8046e79ea9905acbd24982b19665
DTSTAMP:20260424T131530Z
SUMMARY:St. Galler Cliquen Fasnacht - Partneranlass
DESCRIPTION:Anmeldung bis spätestens 20.01.2012 an  Tony Blättler MIRAD m
 icorwave AG Hofstettstrasse 9001 St. Gallen  Telefon 071 354 52 75 Fax 071
  352 50 81 tony.blaettler@mirad.ch\nConférencier(s): gemäss separater Ei
 nladung
URL:https://rc-oberer-bodensee.ch/fr/agenda/show/20529
DTSTART;TZID=Europe/Zurich:20120221T180000
DTEND;TZID=Europe/Zurich:20120221T180000
LOCATION:Restaurant Papagei\, St. Gallen
CATEGORIES:Rotary
END:VEVENT
BEGIN:VTIMEZONE
TZID:Europe/Zurich
BEGIN:STANDARD
DTSTART:20120221T180000
TZNAME:CET
TZOFFSETTO:+0100
TZOFFSETFROM:+0100
END:STANDARD
END:VTIMEZONE
END:VCALENDAR
