BEGIN:VCALENDAR
PRODID:-//eluceo/ical//2.0/EN
VERSION:2.0
CALSCALE:GREGORIAN
BEGIN:VEVENT
UID:22614ac930bd134f7a5d695311ca7a4d
DTSTAMP:20260424T091033Z
SUMMARY:Präsenz-Apéro "Sea-Lounge"-Bar
DESCRIPTION:
URL:https://rc-oberer-bodensee.ch/fr/agenda/show/20269
DTSTART;TZID=Europe/Zurich:20120108T180000
DTEND;TZID=Europe/Zurich:20120108T180000
LOCATION:Bad Horn\, Horn
CATEGORIES:Rotary
END:VEVENT
BEGIN:VTIMEZONE
TZID:Europe/Zurich
BEGIN:STANDARD
DTSTART:20120108T180000
TZNAME:CET
TZOFFSETTO:+0100
TZOFFSETFROM:+0100
END:STANDARD
END:VTIMEZONE
END:VCALENDAR
