BEGIN:VCALENDAR
PRODID:-//eluceo/ical//2.0/EN
VERSION:2.0
CALSCALE:GREGORIAN
BEGIN:VEVENT
UID:dda5791c08d31fc9f75a644fb1f5d98a
DTSTAMP:20260424T093203Z
SUMMARY:Präsenz-Apéro "Sea-Lounge"-Bar
DESCRIPTION:
URL:https://rc-oberer-bodensee.ch/fr/agenda/show/20268
DTSTART;TZID=Europe/Zurich:20111206T180000
DTEND;TZID=Europe/Zurich:20111206T180000
LOCATION:Hotel Bad Horn\, Horn
CATEGORIES:Rotary
END:VEVENT
BEGIN:VTIMEZONE
TZID:Europe/Zurich
BEGIN:STANDARD
DTSTART:20111206T180000
TZNAME:CET
TZOFFSETTO:+0100
TZOFFSETFROM:+0100
END:STANDARD
END:VTIMEZONE
END:VCALENDAR
