BEGIN:VCALENDAR
PRODID:-//eluceo/ical//2.0/EN
VERSION:2.0
CALSCALE:GREGORIAN
BEGIN:VEVENT
UID:f0217ef640d71d7920781ce905725e02
DTSTAMP:20260424T103121Z
SUMMARY:Plauderlunch
DESCRIPTION:
URL:https://rc-oberer-bodensee.ch/fr/agenda/show/20146
DTSTART;TZID=Europe/Zurich:20111223T121500
DTEND;TZID=Europe/Zurich:20111223T121500
LOCATION:Villa am See\, Goldach
CATEGORIES:Rotary
END:VEVENT
BEGIN:VTIMEZONE
TZID:Europe/Zurich
BEGIN:STANDARD
DTSTART:20111223T121500
TZNAME:CET
TZOFFSETTO:+0100
TZOFFSETFROM:+0100
END:STANDARD
END:VTIMEZONE
END:VCALENDAR
