BEGIN:VCALENDAR
PRODID:-//eluceo/ical//2.0/EN
VERSION:2.0
CALSCALE:GREGORIAN
BEGIN:VEVENT
UID:9837f2a178a6d9e0fdcdf5af710eba55
DTSTAMP:20260424T103934Z
SUMMARY:13. Tennisplausch-Turnier Kiwanis/Rotary
DESCRIPTION:Detailangaben sind bei Roland Gunterswiler erhältlich.  Er nim
 mt gerne Anmeldungen entgegen.
URL:https://rc-oberer-bodensee.ch/fr/agenda/show/19886
DTSTART;TZID=Europe/Zurich:20120121T170000
DTEND;TZID=Europe/Zurich:20120121T170000
LOCATION:Tennishalle in Tübach
CATEGORIES:Rotary
END:VEVENT
BEGIN:VTIMEZONE
TZID:Europe/Zurich
BEGIN:STANDARD
DTSTART:20120121T170000
TZNAME:CET
TZOFFSETTO:+0100
TZOFFSETFROM:+0100
END:STANDARD
END:VTIMEZONE
END:VCALENDAR
