BEGIN:VCALENDAR
PRODID:-//eluceo/ical//2.0/EN
VERSION:2.0
CALSCALE:GREGORIAN
BEGIN:VEVENT
UID:59a17e0f37a3ce5c13f90a21109a74e6
DTSTAMP:20260422T093739Z
SUMMARY:OLMA-Event\, St. Gallen / Partneranlass
DESCRIPTION:Conférencier(s): "Bsuach bi dä Bäärner" gemäss separater E
 inladung
URL:https://rc-oberer-bodensee.ch/fr/agenda/show/18962
DTSTART;TZID=Europe/Zurich:20111014T110000
DTEND;TZID=Europe/Zurich:20111014T110000
LOCATION:OLMA St. Gallen
CATEGORIES:Rotary
END:VEVENT
BEGIN:VTIMEZONE
TZID:Europe/Zurich
BEGIN:DAYLIGHT
DTSTART:20111014T110000
TZNAME:CEST
TZOFFSETTO:+0200
TZOFFSETFROM:+0200
END:DAYLIGHT
END:VTIMEZONE
END:VCALENDAR
