BEGIN:VCALENDAR
PRODID:-//eluceo/ical//2.0/EN
VERSION:2.0
CALSCALE:GREGORIAN
BEGIN:VEVENT
UID:f04a361f0d6d4deff90a79e36df87110
DTSTAMP:20260422T105147Z
SUMMARY:Entscheiden unter Unsicherheit: Der Simulator als Werkzeug
DESCRIPTION:Conférencier(s): Marcel Lohrer
URL:https://rc-oberer-bodensee.ch/fr/agenda/show/18921
DTSTART;TZID=Europe/Zurich:20110909T000000
DTEND;TZID=Europe/Zurich:20110909T000000
LOCATION:Gasthof Brauerei Frohsinn\, Arbon
CATEGORIES:Rotary
END:VEVENT
BEGIN:VTIMEZONE
TZID:Europe/Zurich
BEGIN:DAYLIGHT
DTSTART:20110909T000000
TZNAME:CEST
TZOFFSETTO:+0200
TZOFFSETFROM:+0200
END:DAYLIGHT
END:VTIMEZONE
END:VCALENDAR
