BEGIN:VCALENDAR
PRODID:-//eluceo/ical//2.0/EN
VERSION:2.0
CALSCALE:GREGORIAN
BEGIN:VEVENT
UID:f421a0d07c2263661c3225d1ab1b0a3f
DTSTAMP:20260419T174914Z
SUMMARY:Plauder Lunch
DESCRIPTION:Site internet: https://www.atticum.ch/
URL:https://rc-oberer-bodensee.ch/fr/agenda/show/173022
DTSTART;TZID=Europe/Zurich:20240301T120000
DTEND;TZID=Europe/Zurich:20240301T120000
LOCATION:Restaurant Atticum Tübach\, Steinacherstrasse 35\, 9327 Tübach\,
  Schweiz
CATEGORIES:Rotary
END:VEVENT
BEGIN:VTIMEZONE
TZID:Europe/Zurich
BEGIN:STANDARD
DTSTART:20240301T120000
TZNAME:CET
TZOFFSETTO:+0100
TZOFFSETFROM:+0100
END:STANDARD
END:VTIMEZONE
END:VCALENDAR
