BEGIN:VCALENDAR
PRODID:-//eluceo/ical//2.0/EN
VERSION:2.0
CALSCALE:GREGORIAN
BEGIN:VEVENT
UID:9c4d175afe63cc02cb3c6a7db2be5dd8
DTSTAMP:20260423T105123Z
SUMMARY:Partneranlass Schnitzelbängg
DESCRIPTION:
URL:https://rc-oberer-bodensee.ch/fr/agenda/show/172757
DTSTART;TZID=Europe/Zurich:20240213T170000
DTEND;TZID=Europe/Zurich:20240213T170000
LOCATION:Restaurant 1733\, Goliathgasse 29\, St.Gallen
CATEGORIES:Rotary
END:VEVENT
BEGIN:VTIMEZONE
TZID:Europe/Zurich
BEGIN:STANDARD
DTSTART:20240213T170000
TZNAME:CET
TZOFFSETTO:+0100
TZOFFSETFROM:+0100
END:STANDARD
END:VTIMEZONE
END:VCALENDAR
