BEGIN:VCALENDAR
PRODID:-//eluceo/ical//2.0/EN
VERSION:2.0
CALSCALE:GREGORIAN
BEGIN:VEVENT
UID:4345db00e77f3d16db6fc229365eabdb
DTSTAMP:20260425T110653Z
SUMMARY:Weihnachtsfeier
DESCRIPTION:Site internet: http://www.villa-am-see.ch
URL:https://rc-oberer-bodensee.ch/fr/agenda/show/151130
DTSTART;TZID=Europe/Zurich:20221223T120000
DTEND;TZID=Europe/Zurich:20221223T120000
LOCATION:Villa am See\, Seestrasse 64\, 9403 Goldach
CATEGORIES:Rotary
END:VEVENT
BEGIN:VTIMEZONE
TZID:Europe/Zurich
BEGIN:STANDARD
DTSTART:20221223T120000
TZNAME:CET
TZOFFSETTO:+0100
TZOFFSETFROM:+0100
END:STANDARD
END:VTIMEZONE
END:VCALENDAR
