BEGIN:VCALENDAR
PRODID:-//eluceo/ical//2.0/EN
VERSION:2.0
CALSCALE:GREGORIAN
BEGIN:VEVENT
UID:b5af47aaa2841f34698a036aff07997f
DTSTAMP:20260419T135146Z
SUMMARY:externer Anlass Gemeindedienstanlass / Benefitzflohmarkt Mine-Ex
DESCRIPTION:
URL:https://rc-oberer-bodensee.ch/de/agenda/show/173033
DTSTART;TZID=Europe/Zurich:20240427T100000
DTEND;TZID=Europe/Zurich:20240427T100000
LOCATION:Evang. Kirchgemeindezentrum\, Signalstrasse 34\, Rorschach
CATEGORIES:Rotary
END:VEVENT
BEGIN:VTIMEZONE
TZID:Europe/Zurich
BEGIN:DAYLIGHT
DTSTART:20240427T100000
TZNAME:CEST
TZOFFSETTO:+0200
TZOFFSETFROM:+0200
END:DAYLIGHT
END:VTIMEZONE
END:VCALENDAR
