BEGIN:VCALENDAR
PRODID:-//eluceo/ical//2.0/EN
VERSION:2.0
CALSCALE:GREGORIAN
BEGIN:VEVENT
UID:7948b276f042f521c0becf54898f59d7
DTSTAMP:20260419T133453Z
SUMMARY:Vortrag Future Food/ Insects
DESCRIPTION:Webseite: http://www.frohsinn-arbon.ch
URL:https://rc-oberer-bodensee.ch/de/agenda/show/164239
DTSTART;TZID=Europe/Zurich:20230901T120000
DTEND;TZID=Europe/Zurich:20230901T120000
LOCATION:Gasthof Brauerei Frohsinn\, Romanshornerstrasse 15\, 9320 Arbon
CATEGORIES:Rotary
END:VEVENT
BEGIN:VTIMEZONE
TZID:Europe/Zurich
BEGIN:DAYLIGHT
DTSTART:20230901T120000
TZNAME:CEST
TZOFFSETTO:+0200
TZOFFSETFROM:+0200
END:DAYLIGHT
END:VTIMEZONE
END:VCALENDAR
