BEGIN:VCALENDAR
PRODID:-//eluceo/ical//2.0/EN
VERSION:2.0
CALSCALE:GREGORIAN
BEGIN:VEVENT
UID:ca1949ee7d3b033be36215c0191810ea
DTSTAMP:20260424T020207Z
SUMMARY:Lunch on the spot – Villa Wiesental
DESCRIPTION:
URL:https://rc-oberer-bodensee.ch/de/agenda/show/157874
DTSTART;TZID=Europe/Zurich:20230428T120000
DTEND;TZID=Europe/Zurich:20230428T120000
LOCATION:Villa Wiesental
CATEGORIES:Rotary
END:VEVENT
BEGIN:VTIMEZONE
TZID:Europe/Zurich
BEGIN:DAYLIGHT
DTSTART:20230428T120000
TZNAME:CEST
TZOFFSETTO:+0200
TZOFFSETFROM:+0200
END:DAYLIGHT
END:VTIMEZONE
END:VCALENDAR
