BEGIN:VCALENDAR
PRODID:-//eluceo/ical//2.0/EN
VERSION:2.0
CALSCALE:GREGORIAN
BEGIN:VEVENT
UID:a3a39655d2d00b2efde9d8c6bed9b20c
DTSTAMP:20260424T162518Z
SUMMARY:Katrin Meier – Präsidentin Ortsgemeinde St.Gallen
DESCRIPTION:
URL:https://rc-oberer-bodensee.ch/de/agenda/show/157872
DTSTART;TZID=Europe/Zurich:20230414T120000
DTEND;TZID=Europe/Zurich:20230414T120000
LOCATION:Gasthaus Frohsinn\, Arbon
CATEGORIES:Rotary
END:VEVENT
BEGIN:VTIMEZONE
TZID:Europe/Zurich
BEGIN:DAYLIGHT
DTSTART:20230414T120000
TZNAME:CEST
TZOFFSETTO:+0200
TZOFFSETFROM:+0200
END:DAYLIGHT
END:VTIMEZONE
END:VCALENDAR
