BEGIN:VCALENDAR
PRODID:-//eluceo/ical//2.0/EN
VERSION:2.0
CALSCALE:GREGORIAN
BEGIN:VEVENT
UID:332666bc415997b41fd2c2f1a0208975
DTSTAMP:20260420T144704Z
SUMMARY:Lebenslauf Michael Thüler
DESCRIPTION:
URL:https://rc-oberer-bodensee.ch/bs/agenda/show/148846
DTSTART;TZID=Europe/Zurich:20220930T120000
DTEND;TZID=Europe/Zurich:20220930T120000
LOCATION:Gasthaus Frohsinn\, Arbon
CATEGORIES:Rotary
END:VEVENT
BEGIN:VTIMEZONE
TZID:Europe/Zurich
BEGIN:DAYLIGHT
DTSTART:20220930T120000
TZNAME:CEST
TZOFFSETTO:+0200
TZOFFSETFROM:+0200
END:DAYLIGHT
END:VTIMEZONE
END:VCALENDAR
