BEGIN:VCALENDAR
PRODID:-//eluceo/ical//2.0/EN
VERSION:2.0
CALSCALE:GREGORIAN
BEGIN:VEVENT
UID:fe4ec72d6378dc634d1866dcd7dc364a
DTSTAMP:20260420T145101Z
SUMMARY:Peter Müller – Seitenwechsel vom WTT YLA zum CEO
DESCRIPTION:
URL:https://rc-oberer-bodensee.ch/bs/agenda/show/148841
DTSTART;TZID=Europe/Zurich:20220909T120000
DTEND;TZID=Europe/Zurich:20220909T120000
LOCATION:Gasthaus Frohsinn\, Arbon
CATEGORIES:Rotary
END:VEVENT
BEGIN:VTIMEZONE
TZID:Europe/Zurich
BEGIN:DAYLIGHT
DTSTART:20220909T120000
TZNAME:CEST
TZOFFSETTO:+0200
TZOFFSETFROM:+0200
END:DAYLIGHT
END:VTIMEZONE
END:VCALENDAR
